BEGIN:VCALENDAR
VERSION:2.0
PRODID:-//Riccardo Muti - ECPv5.16.4//NONSGML v1.0//EN
CALSCALE:GREGORIAN
METHOD:PUBLISH
X-WR-CALNAME:Riccardo Muti
X-ORIGINAL-URL:https://www.riccardomuti.com/en/
X-WR-CALDESC:Events for Riccardo Muti
BEGIN:VTIMEZONE
TZID:UTC
BEGIN:STANDARD
TZOFFSETFROM:+0000
TZOFFSETTO:+0000
TZNAME:UTC
DTSTART:20240101T000000
END:STANDARD
END:VTIMEZONE
BEGIN:VEVENT
DTSTART;VALUE=DATE:20241108
DTEND;VALUE=DATE:20241110
DTSTAMP:20260419T161914
CREATED:20240618T104000Z
LAST-MODIFIED:20240618T104907Z
UID:16974-1731024000-1731196799@www.riccardomuti.com
SUMMARY:Riccardo Muti conducts Donizetti and Verdi\, Chicago
DESCRIPTION:Chicago Symphony Center \nFriday\, November 8 at 7:30 pm\nSaturday\, November 9 at 7:30 pm \n\n\nDonizetti\, Overture to Don Pasquale\n\n\nVerdi\, The Four Seasons from I vespri siciliani\n\n\nChabrier\, España\n\nGolijov\, Megalopolis Suite [World Premiere\, CSO Commission]\n\n\n\nFalla\, Suite N. 2 from The Three-Cornered Hat\n\n\nChicago Symphony Orchestra
URL:https://www.riccardomuti.com/en/event/riccardo-muti-dirige-donizetti-e-verdi-chicago/
CATEGORIES:Chicago Symphony Orchestra,Concerto
ATTACH;FMTTYPE=image/jpeg:https://www.riccardomuti.com/wp-content/uploads/CSO20220127_101.jpg
END:VEVENT
END:VCALENDAR