BEGIN:VCALENDAR
VERSION:2.0
PRODID:-//Riccardo Muti - ECPv5.16.4//NONSGML v1.0//EN
CALSCALE:GREGORIAN
METHOD:PUBLISH
X-WR-CALNAME:Riccardo Muti
X-ORIGINAL-URL:https://www.riccardomuti.com/en/
X-WR-CALDESC:Events for Riccardo Muti
BEGIN:VTIMEZONE
TZID:UTC
BEGIN:STANDARD
TZOFFSETFROM:+0000
TZOFFSETTO:+0000
TZNAME:UTC
DTSTART:20230101T000000
END:STANDARD
END:VTIMEZONE
BEGIN:VEVENT
DTSTART;VALUE=DATE:20230709
DTEND;VALUE=DATE:20230710
DTSTAMP:20260420T102701
CREATED:20230504T130757Z
LAST-MODIFIED:20230504T135344Z
UID:15826-1688860800-1688947199@www.riccardomuti.com
SUMMARY:The Roads of Friendship\, Jerash
DESCRIPTION:Roman South Theatre\, at 8:30 pm \nThe Roads of Friendship: Ravenna – Jerash – Pompei\nconductor\nRiccardo Muti \nOrchestra Giovanile Luigi Cherubini\nand musicians of the National Music Conservatory of Amman \nCoro Cremona Antiqua\nAntonio Greco choirmaster \nMonica Conesa soprano\nFilippo Mineccia countertenor\nRiccardo Zanellato bass\n \nChristoph Willibald Gluck\nII Act from Orfeo ed Euridice \nVincenzo Bellini\nfrom Norma\nSinfonia\n“Ite sul colle\, o Druidi”\n“Norma viene: le cinge la chioma”\n“Casta diva\, che inargenti” \nJohannes Brahms\nDas Schicksalslied (The Song of Destiny) for choir and orchestra\, Op. 54
URL:https://www.riccardomuti.com/en/event/le-vie-dellamicizia-jerash/
CATEGORIES:Concerto,Orchestra Cherubini,Vie dell’Amicizia
ATTACH;FMTTYPE=image/png:https://www.riccardomuti.com/wp-content/uploads/RM-3.png
END:VEVENT
END:VCALENDAR