BEGIN:VCALENDAR
VERSION:2.0
PRODID:-//Riccardo Muti - ECPv5.16.4//NONSGML v1.0//EN
CALSCALE:GREGORIAN
METHOD:PUBLISH
X-WR-CALNAME:Riccardo Muti
X-ORIGINAL-URL:https://www.riccardomuti.com/en/
X-WR-CALDESC:Events for Riccardo Muti
BEGIN:VTIMEZONE
TZID:UTC
BEGIN:STANDARD
TZOFFSETFROM:+0000
TZOFFSETTO:+0000
TZNAME:UTC
DTSTART:20230101T000000
END:STANDARD
END:VTIMEZONE
BEGIN:VEVENT
DTSTART;VALUE=DATE:20230627
DTEND;VALUE=DATE:20230628
DTSTAMP:20260420T101054
CREATED:20230426T135401Z
LAST-MODIFIED:20230426T140208Z
UID:15771-1687824000-1687910399@www.riccardomuti.com
SUMMARY:Concert for Chicago
DESCRIPTION:Millennium Park\, Chicago – at 6:30 pm \n\n\nPrice\, Andante moderato\n\n\n\n\nTchaikovsky\, Symphony No. 5\n\n\n\nChicago Symphony Orchestra
URL:https://www.riccardomuti.com/en/event/concert-for-chicago-2-2/
CATEGORIES:Chicago Symphony Orchestra,Concerto
ATTACH;FMTTYPE=image/jpeg:https://www.riccardomuti.com/wp-content/uploads/CSO180920_C006.jpg
END:VEVENT
END:VCALENDAR