BEGIN:VCALENDAR
VERSION:2.0
PRODID:-//Riccardo Muti - ECPv5.16.4//NONSGML v1.0//EN
CALSCALE:GREGORIAN
METHOD:PUBLISH
X-WR-CALNAME:Riccardo Muti
X-ORIGINAL-URL:https://www.riccardomuti.com/en/
X-WR-CALDESC:Events for Riccardo Muti
BEGIN:VTIMEZONE
TZID:UTC
BEGIN:STANDARD
TZOFFSETFROM:+0000
TZOFFSETTO:+0000
TZNAME:UTC
DTSTART:20260101T000000
END:STANDARD
END:VTIMEZONE
BEGIN:VEVENT
DTSTART;VALUE=DATE:20260121
DTEND;VALUE=DATE:20260122
DTSTAMP:20260419T194441
CREATED:20251224T104400Z
LAST-MODIFIED:20251224T104516Z
UID:17768-1768953600-1769039999@www.riccardomuti.com
SUMMARY:Riccardo Muti and CSO on tour: Palm Desert
DESCRIPTION:McCallum Theatre\, at 7:30 PM \nBrahms – Symphony No. 4 \nStravinsky – Divertimento\, Suite from The Fairy’s Kiss \nRavel – Boléro \nChicago Symphony Orchestra
URL:https://www.riccardomuti.com/en/event/riccardo-muti-e-cso-in-tour-palm-desert/
CATEGORIES:Chicago Symphony Orchestra,Tour CSO
ATTACH;FMTTYPE=image/jpeg:https://www.riccardomuti.com/wp-content/uploads/5T0A8598-scaled.jpg
END:VEVENT
END:VCALENDAR