BEGIN:VCALENDAR
VERSION:2.0
PRODID:-//Riccardo Muti - ECPv5.16.4//NONSGML v1.0//EN
CALSCALE:GREGORIAN
METHOD:PUBLISH
X-WR-CALNAME:Riccardo Muti
X-ORIGINAL-URL:https://www.riccardomuti.com/en/
X-WR-CALDESC:Events for Riccardo Muti
BEGIN:VTIMEZONE
TZID:UTC
BEGIN:STANDARD
TZOFFSETFROM:+0000
TZOFFSETTO:+0000
TZNAME:UTC
DTSTART:20240101T000000
END:STANDARD
END:VTIMEZONE
BEGIN:VEVENT
DTSTART;VALUE=DATE:20241102
DTEND;VALUE=DATE:20241104
DTSTAMP:20260419T180942
CREATED:20240618T112334Z
LAST-MODIFIED:20240618T112711Z
UID:16989-1730505600-1730678399@www.riccardomuti.com
SUMMARY:Riccardo Muti conducts Beethoven\, Chicago
DESCRIPTION:Chicago Symphony Center \nSaturday\, November 2 at 7:30 pm\nSunday\, November 3 at 3:00 pm \nBeethoven\, Piano Concerto No. 5 (Emperor)\nBeethoven\, Symphony No. 3 (Eroica) \nChicago Symphony Orchestra
URL:https://www.riccardomuti.com/en/event/riccardo-muti-dirige-beethoven-chicago-2/
CATEGORIES:Chicago Symphony Orchestra
ATTACH;FMTTYPE=image/jpeg:https://www.riccardomuti.com/wp-content/uploads/CSO20230921_096.jpg
END:VEVENT
END:VCALENDAR