BEGIN:VCALENDAR
VERSION:2.0
PRODID:-//Riccardo Muti - ECPv5.16.4//NONSGML v1.0//EN
CALSCALE:GREGORIAN
METHOD:PUBLISH
X-WR-CALNAME:Riccardo Muti
X-ORIGINAL-URL:https://www.riccardomuti.com/en/
X-WR-CALDESC:Events for Riccardo Muti
BEGIN:VTIMEZONE
TZID:Europe/Rome
BEGIN:DAYLIGHT
TZOFFSETFROM:+0100
TZOFFSETTO:+0200
TZNAME:CEST
DTSTART:20210328T010000
END:DAYLIGHT
BEGIN:STANDARD
TZOFFSETFROM:+0200
TZOFFSETTO:+0100
TZNAME:CET
DTSTART:20211031T010000
END:STANDARD
END:VTIMEZONE
BEGIN:VEVENT
DTSTART;VALUE=DATE:20210326
DTEND;VALUE=DATE:20210327
DTSTAMP:20260426T025523
CREATED:20210319T160420Z
LAST-MODIFIED:20210319T162439Z
UID:12365-1616716800-1616803199@www.riccardomuti.com
SUMMARY:Streaming tour from Italian theaters - Naples
DESCRIPTION:From Teatro Mercadante\, at 8:00 pm (CET) \non live.napoliteatrofestival.it\, cultura.regione.campania.it\, ansa.it and ravennafestival.live. \nMercadante\, Symphony from I due Figaro\nSchubert\, Symphony No. 9\, The Great \n\n\n\n\nOrchestra Giovanile Luigi Cherubini
URL:https://www.riccardomuti.com/en/event/tour-in-streaming-dei-teatri-italiani-napoli-2/
CATEGORIES:Concerto,Orchestra Cherubini
ATTACH;FMTTYPE=image/jpeg:https://www.riccardomuti.com/wp-content/uploads/maestroSenzaAureola.jpg
END:VEVENT
END:VCALENDAR