BEGIN:VCALENDAR
VERSION:2.0
PRODID:-//Riccardo Muti - ECPv5.16.4//NONSGML v1.0//EN
CALSCALE:GREGORIAN
METHOD:PUBLISH
X-WR-CALNAME:Riccardo Muti
X-ORIGINAL-URL:https://www.riccardomuti.com/en/
X-WR-CALDESC:Events for Riccardo Muti
BEGIN:VTIMEZONE
TZID:Europe/Rome
BEGIN:DAYLIGHT
TZOFFSETFROM:+0100
TZOFFSETTO:+0200
TZNAME:CEST
DTSTART:20210328T010000
END:DAYLIGHT
BEGIN:STANDARD
TZOFFSETFROM:+0200
TZOFFSETTO:+0100
TZNAME:CET
DTSTART:20211031T010000
END:STANDARD
END:VTIMEZONE
BEGIN:VEVENT
DTSTART;VALUE=DATE:20211204
DTEND;VALUE=DATE:20211216
DTSTAMP:20260424T172316
CREATED:20211007T142720Z
LAST-MODIFIED:20211209T104000Z
UID:13667-1638576000-1639612799@www.riccardomuti.com
SUMMARY:Riccardo Muti Italian Opera Academy 2021\, Milano
DESCRIPTION:Fondazione Prada \nDecember 4: Riccardo Muti presents Nabucco \nDecember 5-11: Rehearsals with singers\, orchestra\, répétiteurs and selected conductors \nDecember 14: Riccardo Muti conducts Nabucco in concert form \nDecember 15: Riccardo Muti presents the concert performed and conducted by the young musicians of the Italian Opera Academy \nDiscover how to reserve your seat here. \n 
URL:https://www.riccardomuti.com/en/event/riccardo-muti-italian-opera-academy-2021-milano/
CATEGORIES:Riccardo Muti Italian Opera Academy
ATTACH;FMTTYPE=image/png:https://www.riccardomuti.com/wp-content/uploads/Panoramica-2019.png
END:VEVENT
END:VCALENDAR