BEGIN:VCALENDAR
VERSION:2.0
PRODID:-//Riccardo Muti - ECPv5.16.4//NONSGML v1.0//EN
CALSCALE:GREGORIAN
METHOD:PUBLISH
X-WR-CALNAME:Riccardo Muti
X-ORIGINAL-URL:https://www.riccardomuti.com/en/
X-WR-CALDESC:Events for Riccardo Muti
BEGIN:VTIMEZONE
TZID:Europe/Rome
BEGIN:DAYLIGHT
TZOFFSETFROM:+0100
TZOFFSETTO:+0200
TZNAME:CEST
DTSTART:20210328T010000
END:DAYLIGHT
BEGIN:STANDARD
TZOFFSETFROM:+0200
TZOFFSETTO:+0100
TZNAME:CET
DTSTART:20211031T010000
END:STANDARD
END:VTIMEZONE
BEGIN:VEVENT
DTSTART;VALUE=DATE:20211120
DTEND;VALUE=DATE:20211122
DTSTAMP:20260424T185624
CREATED:20211103T114805Z
LAST-MODIFIED:20211103T115116Z
UID:13750-1637366400-1637539199@www.riccardomuti.com
SUMMARY:Riccardo Muti conducts Wiener Philharmoniker\, Cairo
DESCRIPTION:Concert Hall of the City of Arts and Culture\, New Administrative Capital Cairo\, Egypt \nSaturday November 20\, at 6:00 pm\nSunday November 21\, at 7:30 pm \nWolfgang Amadeus Mozart\nSymphony [No. 35] in D Major\, K. 385 Haffner\n \nFranz Schubert\nSymphony No. 8 in C Major\, D. 944 The Great
URL:https://www.riccardomuti.com/en/event/riccardo-muti-dirige-i-wiener-philharmoniker-cairo/
CATEGORIES:Concerto,Wiener Philharmoniker
ATTACH;FMTTYPE=image/jpeg:https://www.riccardomuti.com/wp-content/uploads/Vie_Amicizia_Paestum-Silvia-Lelli_04lug2020_2811.jpg
END:VEVENT
END:VCALENDAR