BEGIN:VCALENDAR
VERSION:2.0
PRODID:-//Riccardo Muti - ECPv5.16.4//NONSGML v1.0//EN
CALSCALE:GREGORIAN
METHOD:PUBLISH
X-WR-CALNAME:Riccardo Muti
X-ORIGINAL-URL:https://www.riccardomuti.com/en/
X-WR-CALDESC:Events for Riccardo Muti
BEGIN:VTIMEZONE
TZID:Europe/Rome
BEGIN:DAYLIGHT
TZOFFSETFROM:+0100
TZOFFSETTO:+0200
TZNAME:CEST
DTSTART:20180325T010000
END:DAYLIGHT
BEGIN:STANDARD
TZOFFSETFROM:+0200
TZOFFSETTO:+0100
TZNAME:CET
DTSTART:20181028T010000
END:STANDARD
END:VTIMEZONE
BEGIN:VEVENT
DTSTART;VALUE=DATE:20180718
DTEND;VALUE=DATE:20180719
DTSTAMP:20260420T102805
CREATED:20180427T075219Z
LAST-MODIFIED:20180427T075903Z
UID:5822-1531872000-1531958399@www.riccardomuti.com
SUMMARY:Homage to Ruggero Ricci on the 100th Anniversary of his Birth\, Ravenna
DESCRIPTION:Teatro Alighieri at 9:00 pm \n\n\n\n\nGioachino Rossini Overture from “Il viaggio a Reims”\nNiccolò Paganini Violin Concerto No. 4  in D minor\nLudwig van Beethoven Symphony No. 7 in A Major op. 92 \nOrchestra Giovanile Luigi Cherubini\nViolin: Wilfried Hedenborg \n 
URL:https://www.riccardomuti.com/en/event/omaggio-ruggero-ricci-nel-centenario-della-nascita-ravenna/
LOCATION:Teatro Dante Alighieri\, Via Angelo Mariani\, 2\, Ravenna\, Italia
CATEGORIES:Concerto,Orchestra Cherubini
ATTACH;FMTTYPE=image/jpeg:https://www.riccardomuti.com/wp-content/uploads/RMIOA-2017_06.jpg
END:VEVENT
END:VCALENDAR