BEGIN:VCALENDAR
VERSION:2.0
PRODID:-//Riccardo Muti - ECPv5.16.4//NONSGML v1.0//EN
CALSCALE:GREGORIAN
METHOD:PUBLISH
X-WR-CALNAME:Riccardo Muti
X-ORIGINAL-URL:https://www.riccardomuti.com/en/
X-WR-CALDESC:Events for Riccardo Muti
BEGIN:VTIMEZONE
TZID:Europe/Rome
BEGIN:DAYLIGHT
TZOFFSETFROM:+0100
TZOFFSETTO:+0200
TZNAME:CEST
DTSTART:20200329T010000
END:DAYLIGHT
BEGIN:STANDARD
TZOFFSETFROM:+0200
TZOFFSETTO:+0100
TZNAME:CET
DTSTART:20201025T010000
END:STANDARD
END:VTIMEZONE
BEGIN:VEVENT
DTSTART;VALUE=DATE:20200423
DTEND;VALUE=DATE:20200426
DTSTAMP:20260419T145128
CREATED:20190308T174006Z
LAST-MODIFIED:20200325T095450Z
UID:8763-1587600000-1587859199@www.riccardomuti.com
SUMMARY:Muti\, Fischer & Brahms\, Chicago
DESCRIPTION:Deleted according to the measures for the containment of the spreading of Covid-19. \nChicago Symphony Center \nThursday\, April 23\, at 8:00 pm\nFriday\, April 24\, at 8:00 pm\nSaturday\, April 25\, at 8:00 pm \nBrahms Violin Concerto\nStill Mother and Child\nPrice Symphony No. 3 \n\n\n\n\nChicago Symphony Orchestra\nJulia Fischer violin
URL:https://www.riccardomuti.com/en/event/muti-fischer-brahms-chicago/
LOCATION:Chicago Symphony Center\, 220 S Michigan Ave\, Chicago\, IL\, 60604\, Stati Uniti
CATEGORIES:Chicago Symphony Orchestra,Concerto
ATTACH;FMTTYPE=image/png:https://www.riccardomuti.com/wp-content/uploads/foto-1.png
END:VEVENT
END:VCALENDAR