BEGIN:VCALENDAR
VERSION:2.0
PRODID:-//Riccardo Muti - ECPv5.16.4//NONSGML v1.0//EN
CALSCALE:GREGORIAN
METHOD:PUBLISH
X-WR-CALNAME:Riccardo Muti
X-ORIGINAL-URL:https://www.riccardomuti.com/en/
X-WR-CALDESC:Events for Riccardo Muti
BEGIN:VTIMEZONE
TZID:Europe/Rome
BEGIN:DAYLIGHT
TZOFFSETFROM:+0100
TZOFFSETTO:+0200
TZNAME:CEST
DTSTART:20200329T010000
END:DAYLIGHT
BEGIN:STANDARD
TZOFFSETFROM:+0200
TZOFFSETTO:+0100
TZNAME:CET
DTSTART:20201025T010000
END:STANDARD
END:VTIMEZONE
BEGIN:VEVENT
DTSTART;VALUE=DATE:20200428
DTEND;VALUE=DATE:20200429
DTSTAMP:20260419T162417
CREATED:20190308T174532Z
LAST-MODIFIED:20200325T095840Z
UID:8767-1588032000-1588118399@www.riccardomuti.com
SUMMARY:Muti\, Fischer & Brahms\, Chicago
DESCRIPTION:Deleted according to the measures for the containment of the spreading of Covid-19. \nChicago Symphony Center\, at 7:30 pm \nBrahms Violin Concerto\nStill Mother and Child\nPrice Symphony No. 3 \n\n\n\n\nChicago Symphony Orchestra\nJulia Fischer violin
URL:https://www.riccardomuti.com/en/event/muti-fischer-brahms-chicago-2/
LOCATION:Chicago Symphony Center\, 220 S Michigan Ave\, Chicago\, IL\, 60604\, Stati Uniti
CATEGORIES:Chicago Symphony Orchestra,Concerto
ATTACH;FMTTYPE=image/jpeg:https://www.riccardomuti.com/wp-content/uploads/CSO190130_4318.jpg
END:VEVENT
END:VCALENDAR