BEGIN:VCALENDAR
VERSION:2.0
PRODID:-//Riccardo Muti - ECPv5.16.4//NONSGML v1.0//EN
CALSCALE:GREGORIAN
METHOD:PUBLISH
X-WR-CALNAME:Riccardo Muti
X-ORIGINAL-URL:https://www.riccardomuti.com/en/
X-WR-CALDESC:Events for Riccardo Muti
BEGIN:VTIMEZONE
TZID:Europe/Rome
BEGIN:DAYLIGHT
TZOFFSETFROM:+0100
TZOFFSETTO:+0200
TZNAME:CEST
DTSTART:20180325T010000
END:DAYLIGHT
BEGIN:STANDARD
TZOFFSETFROM:+0200
TZOFFSETTO:+0100
TZNAME:CET
DTSTART:20181028T010000
END:STANDARD
END:VTIMEZONE
BEGIN:VEVENT
DTSTART;VALUE=DATE:20180412
DTEND;VALUE=DATE:20180415
DTSTAMP:20260419T203009
CREATED:20170330T145800Z
LAST-MODIFIED:20170531T105836Z
UID:3563-1523491200-1523750399@www.riccardomuti.com
SUMMARY:Muti-Dvořák-Copland\, Chicago\, April 12 to 14
DESCRIPTION:April 12 to 14 at 8 pm \nWalker Lyric for Strings\nCopland Lincoln Portrait\nDvořák Symphony No. 9 (From the New World)  \n\n\n\n\n\n\n\nChicago Symphony Orchestra\nRiccardo Muti
URL:https://www.riccardomuti.com/en/event/muti-dvorak-copland/
ATTACH;FMTTYPE=image/jpeg:https://www.riccardomuti.com/wp-content/uploads/muti_banner4.jpg
END:VEVENT
END:VCALENDAR