BEGIN:VCALENDAR
VERSION:2.0
PRODID:-//Riccardo Muti - ECPv5.16.4//NONSGML v1.0//EN
CALSCALE:GREGORIAN
METHOD:PUBLISH
X-WR-CALNAME:Riccardo Muti
X-ORIGINAL-URL:https://www.riccardomuti.com/en/
X-WR-CALDESC:Events for Riccardo Muti
BEGIN:VTIMEZONE
TZID:UTC
BEGIN:STANDARD
TZOFFSETFROM:+0000
TZOFFSETTO:+0000
TZNAME:UTC
DTSTART:20220101T000000
END:STANDARD
END:VTIMEZONE
BEGIN:VEVENT
DTSTART;VALUE=DATE:20221217
DTEND;VALUE=DATE:20221218
DTSTAMP:20260423T205629
CREATED:20221201T084811Z
LAST-MODIFIED:20221201T091748Z
UID:15154-1671235200-1671321599@www.riccardomuti.com
SUMMARY:Muti conducts Verdi\, Rimini
DESCRIPTION:Teatro Galli\, Rimini at 9:00 pm \nVerdi Requiem \nOrchestra Giovanile Luigi Cherubini \nsoprano Juliana Grigoryan\nmezzo Isabel De Paoli\ntenor Klodjan Kaçani\nbass Riccardo Zanellato \nCoro Cherubini – Coro Cremona Antiqua\nchoirmaster Antonio Greco
URL:https://www.riccardomuti.com/en/event/muti-dirige-verdi-rimini/
CATEGORIES:Concerto,Orchestra Cherubini
ATTACH;FMTTYPE=image/png:https://www.riccardomuti.com/wp-content/uploads/RM-1.png
END:VEVENT
END:VCALENDAR