BEGIN:VCALENDAR
VERSION:2.0
PRODID:-//Riccardo Muti - ECPv5.16.4//NONSGML v1.0//EN
CALSCALE:GREGORIAN
METHOD:PUBLISH
X-WR-CALNAME:Riccardo Muti
X-ORIGINAL-URL:https://www.riccardomuti.com/en/
X-WR-CALDESC:Events for Riccardo Muti
BEGIN:VTIMEZONE
TZID:Europe/Rome
BEGIN:DAYLIGHT
TZOFFSETFROM:+0100
TZOFFSETTO:+0200
TZNAME:CEST
DTSTART:20200329T010000
END:DAYLIGHT
BEGIN:STANDARD
TZOFFSETFROM:+0200
TZOFFSETTO:+0100
TZNAME:CET
DTSTART:20201025T010000
END:STANDARD
END:VTIMEZONE
BEGIN:VEVENT
DTSTART;VALUE=DATE:20200405
DTEND;VALUE=DATE:20200406
DTSTAMP:20260419T163623
CREATED:20191111T091028Z
LAST-MODIFIED:20200323T104456Z
UID:10407-1586044800-1586131199@www.riccardomuti.com
SUMMARY:Muti conducts Bizet\, Berlioz and Respighi - Paris
DESCRIPTION:Deleted according to the measures for the containment of the spreading of Covid-19. \nPhilharmonie de Paris\, at 7:30 pm \nBizet Symphony Roma\nBerlioz La mort de Cléopâtre\nRespighi Pines of Rome \n\n\n\n\nOrchestre National de France\nMarie-Nicole Lemieux contralto
URL:https://www.riccardomuti.com/en/event/muti-dirige-bizet-berlioz-e-respighi-parigi/
CATEGORIES:Concerto
ATTACH;FMTTYPE=image/jpeg:https://www.riccardomuti.com/wp-content/uploads/2019.04.04RigolettocSpring-Festival-in-Tokyo_Satoshi-Aoyagi_DSC3115-2.jpg
END:VEVENT
END:VCALENDAR