BEGIN:VCALENDAR
VERSION:2.0
PRODID:-//Riccardo Muti - ECPv5.16.4//NONSGML v1.0//EN
CALSCALE:GREGORIAN
METHOD:PUBLISH
X-WR-CALNAME:Riccardo Muti
X-ORIGINAL-URL:https://www.riccardomuti.com/en/
X-WR-CALDESC:Events for Riccardo Muti
BEGIN:VTIMEZONE
TZID:Europe/Rome
BEGIN:DAYLIGHT
TZOFFSETFROM:+0100
TZOFFSETTO:+0200
TZNAME:CEST
DTSTART:20210328T010000
END:DAYLIGHT
BEGIN:STANDARD
TZOFFSETFROM:+0200
TZOFFSETTO:+0100
TZNAME:CET
DTSTART:20211031T010000
END:STANDARD
END:VTIMEZONE
BEGIN:VEVENT
DTSTART;VALUE=DATE:20210716
DTEND;VALUE=DATE:20210717
DTSTAMP:20260424T213027
CREATED:20210518T155600Z
LAST-MODIFIED:20210713T084031Z
UID:12774-1626393600-1626479999@www.riccardomuti.com
SUMMARY:POSTPONED: Muti conducts Beethoven and Schubert\, Ravenna
DESCRIPTION:Postponed September 2\, 2021 \nRocca Brancaleone\, at 9:30 pm \nLudwig van Beethoven\nDie Weihe des Hauses (The Consecration of the House)\, Overture in C major for orchestra Op. 124 \nFranz Schubert\nSymphony in C major “Great” D. 944 \nOrchestra Cherubini
URL:https://www.riccardomuti.com/en/event/muti-dirige-beethoven-e-schubert-ravenna-2/
CATEGORIES:Concerto,Orchestra Cherubini
ATTACH;FMTTYPE=image/png:https://www.riccardomuti.com/wp-content/uploads/RM-Cherubini.png
END:VEVENT
END:VCALENDAR