BEGIN:VCALENDAR
VERSION:2.0
PRODID:-//Riccardo Muti - ECPv5.16.4//NONSGML v1.0//EN
CALSCALE:GREGORIAN
METHOD:PUBLISH
X-WR-CALNAME:Riccardo Muti
X-ORIGINAL-URL:https://www.riccardomuti.com/en/
X-WR-CALDESC:Events for Riccardo Muti
BEGIN:VTIMEZONE
TZID:Europe/Rome
BEGIN:DAYLIGHT
TZOFFSETFROM:+0100
TZOFFSETTO:+0200
TZNAME:CEST
DTSTART:20210328T010000
END:DAYLIGHT
BEGIN:STANDARD
TZOFFSETFROM:+0200
TZOFFSETTO:+0100
TZNAME:CET
DTSTART:20211031T010000
END:STANDARD
END:VTIMEZONE
BEGIN:VEVENT
DTSTART;VALUE=DATE:20210622
DTEND;VALUE=DATE:20210623
DTSTAMP:20260425T012610
CREATED:20200520T155413Z
LAST-MODIFIED:20200520T155413Z
UID:11371-1624320000-1624406399@www.riccardomuti.com
SUMMARY:Muti conducts Aida – Verona
DESCRIPTION:Arena di Verona\, at 8:45 pm \nGiuseppe Verdi Aida – in concert form \nOrchestra e Coro dell’Arena di Verona\nVito Lombardi chorus director \n\n\n\nIl Re Roberto Tagliavini\nAmneris Anita Rachvelishvili\nAida Sonya Yoncheva\nRadamès Francesco Meli\nRamfis Riccardo Zanellato\nAmonasro Luca Salsi\nUn messaggero Riccardo Rados\nSacerdotessa Benedetta Torre
URL:https://www.riccardomuti.com/en/event/muti-dirige-aida-verona-2/
CATEGORIES:concert,Concerto,Opera
ATTACH;FMTTYPE=image/png:https://www.riccardomuti.com/wp-content/uploads/Schermata-2017-05-12-alle-17.17.33.png
END:VEVENT
END:VCALENDAR