BEGIN:VCALENDAR
VERSION:2.0
PRODID:-//Riccardo Muti - ECPv5.16.4//NONSGML v1.0//EN
CALSCALE:GREGORIAN
METHOD:PUBLISH
X-WR-CALNAME:Riccardo Muti
X-ORIGINAL-URL:https://www.riccardomuti.com/en/
X-WR-CALDESC:Events for Riccardo Muti
BEGIN:VTIMEZONE
TZID:Europe/Rome
BEGIN:DAYLIGHT
TZOFFSETFROM:+0100
TZOFFSETTO:+0200
TZNAME:CEST
DTSTART:20180325T010000
END:DAYLIGHT
BEGIN:STANDARD
TZOFFSETFROM:+0200
TZOFFSETTO:+0100
TZNAME:CET
DTSTART:20181028T010000
END:STANDARD
END:VTIMEZONE
BEGIN:VEVENT
DTSTART;VALUE=DATE:20180201
DTEND;VALUE=DATE:20180204
DTSTAMP:20260419T154038
CREATED:20170330T104006Z
LAST-MODIFIED:20170531T104956Z
UID:3518-1517443200-1517702399@www.riccardomuti.com
SUMMARY:Muti-Britten-Higdon\, Chicago\, February 1 to 3
DESCRIPTION:February\, 1st at 8 pm\nFebruary\, 2nd at 1:30 pm\nFebruary\, 3rd at 8 pm \n\n\n\n\n\n\n\n\nStravinsky Scherzo fantastique\nHigdon Low Brass Concerto\n[World Premiere\, CSO Co-commission]\nChausson Poème de l’amour et de la mer\nBritten Four Sea Interludes from Peter Grimes \n\n\n\n\n\nChicago Symphony Orchestra\nRiccardo Muti \n\n\n\nClémentine Margaine mezzo-soprano\nJay Friedman trombone\nMichael Mulcahy trombone\nCharles Vernon bass trombone\nGene Pokorny tuba
URL:https://www.riccardomuti.com/en/event/muti-britten-higdon/
LOCATION:Chicago Symphony Center\, 220 S Michigan Ave\, Chicago\, IL\, 60604\, Stati Uniti
ATTACH;FMTTYPE=image/jpeg:https://www.riccardomuti.com/wp-content/uploads/muti_banner2.jpg
END:VEVENT
END:VCALENDAR