BEGIN:VCALENDAR
VERSION:2.0
PRODID:-//Riccardo Muti - ECPv5.16.4//NONSGML v1.0//EN
CALSCALE:GREGORIAN
METHOD:PUBLISH
X-WR-CALNAME:Riccardo Muti
X-ORIGINAL-URL:https://www.riccardomuti.com/en/
X-WR-CALDESC:Events for Riccardo Muti
BEGIN:VTIMEZONE
TZID:Europe/Rome
BEGIN:DAYLIGHT
TZOFFSETFROM:+0100
TZOFFSETTO:+0200
TZNAME:CEST
DTSTART:20210328T010000
END:DAYLIGHT
BEGIN:STANDARD
TZOFFSETFROM:+0200
TZOFFSETTO:+0100
TZNAME:CET
DTSTART:20211031T010000
END:STANDARD
END:VTIMEZONE
BEGIN:VEVENT
DTSTART;VALUE=DATE:20210704
DTEND;VALUE=DATE:20210705
DTSTAMP:20260425T012610
CREATED:20210628T081930Z
LAST-MODIFIED:20210628T095323Z
UID:13296-1625356800-1625443199@www.riccardomuti.com
SUMMARY:Le vie dell’Amicizia\, Erevan
DESCRIPTION:Erevan\, at 9:30 pm \nFranz Joseph Haydn\nTe Deum in C major for choir and orchestra Hob:XXIIIc:2 \nWolfgang Amadeus Mozart\nKyrie in D minor K. 341 \nFranz Schubert\nMass no. 2 in G major for soloists\, choir\, strings\, and organ D. 167 \nTigran Mansurian\nPurgatorio\nfirst execution commissioned by Ravenna Festival \nsoprano Nina Minasyan\ntenor Giovanni Sala\nbaritone Gurgen Baveyan \nOrchestra Giovanile Luigi Cherubini\nArmenian State Chamber Choir\nchoirmaster Robert Mlkeyan\norgan Davide Cavalli
URL:https://www.riccardomuti.com/en/event/le-vie-dellamicizia-erevan/
CATEGORIES:Vie dell’Amicizia
ATTACH;FMTTYPE=image/jpeg:https://www.riccardomuti.com/wp-content/uploads/CSO170109_0626f.jpg
END:VEVENT
END:VCALENDAR