BEGIN:VCALENDAR
VERSION:2.0
PRODID:-//Riccardo Muti - ECPv5.16.4//NONSGML v1.0//EN
CALSCALE:GREGORIAN
METHOD:PUBLISH
X-WR-CALNAME:Riccardo Muti
X-ORIGINAL-URL:https://www.riccardomuti.com/en/
X-WR-CALDESC:Events for Riccardo Muti
BEGIN:VTIMEZONE
TZID:Europe/Rome
BEGIN:DAYLIGHT
TZOFFSETFROM:+0100
TZOFFSETTO:+0200
TZNAME:CEST
DTSTART:20210328T010000
END:DAYLIGHT
BEGIN:STANDARD
TZOFFSETFROM:+0200
TZOFFSETTO:+0100
TZNAME:CET
DTSTART:20211031T010000
END:STANDARD
END:VTIMEZONE
BEGIN:VEVENT
DTSTART;VALUE=DATE:20210123
DTEND;VALUE=DATE:20210124
DTSTAMP:20260426T063049
CREATED:20201016T092041Z
LAST-MODIFIED:20201016T092041Z
UID:11940-1611360000-1611446399@www.riccardomuti.com
SUMMARY:CANCELED: Florida Tour\, Naples
DESCRIPTION:Deleted according to the measures for the containment of the spreading of Covid-19. \nFrances Pew Hayes Hall\, Artis-Naples – Naples\nAt 8:00 pm \nVerdi Overture to Nabucco\nBeethoven Symphony No. 8\nBrahms Symphony No. 1 \n\n\n\n\nChicago Symphony Orchestra
URL:https://www.riccardomuti.com/en/event/florida-tour-naples-4-2/
CATEGORIES:Chicago Symphony Orchestra,Concerto
ATTACH;FMTTYPE=image/jpeg:https://www.riccardomuti.com/wp-content/uploads/CSO20200213_1240.jpg
END:VEVENT
END:VCALENDAR